Workbook

Sheet Dashboard
A1: Panel de inspección en el lugar de trabajo
A4: Site A | E4: Site B | I4: Site C
A13: Actual | C13: =Data!B15 -> 60 | E13: Actual | G13: =Data!C15 -> 43 | I13: Actual | K13: =Data!D15 -> 57
A14: Target | C14: =Data!B17 -> 90 | E14: Target | G14: =Data!C17 -> 90 | I14: Target | K14: =Data!D17 -> 90

Sheet Data
A1: Panel de inspección en el lugar de trabajo
A2: Mes | B2: Site A | C2: Site B | D2: Site C | E2: Hallazgos totales | F2: Hallazgos cerrados
A3: Ene | B3: 5 | C3: 5 | D3: 5 | E3: 10 | F3: 6 | K3: Site A
A4: Feb | B4: 5 | C4: 5 | D4: 5 | E4: 5 | F4: 4 | K4: Actual | L4: =B15 -> 60
A5: Mar | B5: 15 | C5: 2 | D5: 4 | E5: 6 | F5: 3 | K5: Target | L5: =B17 -> 90
A6: Abr | B6: 5 | C6: 10 | D6: 5 | E6: 5 | F6: 2 | K6: % | L6: =L4/L5 -> 0.66666667
A7: May | B7: 10 | C7: 4 | D7: 10 | E7: 10 | F7: 5 | L7: =1-L6 -> 0.33333333
A8: Jun | B8: 10 | C8: 1 | D8: 10 | E8: 15 | F8: 6 | K8: Site B
A9: Jul | B9: 2 | C9: 1 | D9: 4 | E9: 9 | F9: 8 | K9: Actual | L9: =C15 -> 43
A10: Ago | B10: 1 | C10: 1 | D10: 5 | E10: 5 | F10: 5 | K10: Target | L10: =C17 -> 90
A11: Sep | B11: 2 | C11: 2 | D11: 3 | E11: 4 | F11: 3 | K11: % | L11: =L9/L10 -> 0.47777778
A12: Oct | B12: 1 | C12: 3 | D12: 3 | E12: 2 | F12: 2 | L12: =1-L11 -> 0.52222222
A13: Nov | B13: 2 | C13: 4 | D13: 2 | E13: 19 | F13: 6
A14: Dic | B14: 2 | C14: 5 | D14: 1 | E14: 8 | F14: 5 | K14: Site C
A15: Total | B15: =SUM(B3:B14) -> 60 | C15: =SUM(C3:C14) -> 43 | D15: =SUM(D3:D14) -> 57 | E15: =SUM(E3:E14) -> 98 | F15: =SUM(F3:F14) -> 55 | K15: Actual | L15: =D15 -> 57
K16: Target | L16: =D17 -> 90
A17: YTD Target | B17: 90 | C17: 90 | D17: 90 | K17: % | L17: =L15/L16 -> 0.63333333
L18: =1-L17 -> 0.36666667
